BEGIN:VCALENDAR
VERSION:2.0
PRODID:-//Bodenleben.Bodenlos - ECPv6.15.20//NONSGML v1.0//EN
CALSCALE:GREGORIAN
METHOD:PUBLISH
X-ORIGINAL-URL:https://boden.oekospeicher.de
X-WR-CALDESC:Veranstaltungen für Bodenleben.Bodenlos
REFRESH-INTERVAL;VALUE=DURATION:PT1H
X-Robots-Tag:noindex
X-PUBLISHED-TTL:PT1H
BEGIN:VTIMEZONE
TZID:Europe/Berlin
BEGIN:DAYLIGHT
TZOFFSETFROM:+0100
TZOFFSETTO:+0200
TZNAME:CEST
DTSTART:20240331T010000
END:DAYLIGHT
BEGIN:STANDARD
TZOFFSETFROM:+0200
TZOFFSETTO:+0100
TZNAME:CET
DTSTART:20241027T010000
END:STANDARD
BEGIN:DAYLIGHT
TZOFFSETFROM:+0100
TZOFFSETTO:+0200
TZNAME:CEST
DTSTART:20250330T010000
END:DAYLIGHT
BEGIN:STANDARD
TZOFFSETFROM:+0200
TZOFFSETTO:+0100
TZNAME:CET
DTSTART:20251026T010000
END:STANDARD
BEGIN:DAYLIGHT
TZOFFSETFROM:+0100
TZOFFSETTO:+0200
TZNAME:CEST
DTSTART:20260329T010000
END:DAYLIGHT
BEGIN:STANDARD
TZOFFSETFROM:+0200
TZOFFSETTO:+0100
TZNAME:CET
DTSTART:20261025T010000
END:STANDARD
END:VTIMEZONE
BEGIN:VEVENT
DTSTART;TZID=Europe/Berlin:20250509T193000
DTEND;TZID=Europe/Berlin:20250509T213000
DTSTAMP:20260422T143814
CREATED:20250218T211038Z
LAST-MODIFIED:20250218T211038Z
UID:2784-1746819000-1746826200@boden.oekospeicher.de
SUMMARY:ABGESAGT: Ich lese was\, was Du nicht liest
DESCRIPTION:„Ich lese was\, was Du nicht liest“ – seit 2017 gibt es den Büchertalk im Speicher.  „Ich lese was\, was Du nicht liest“ – ist keine Lesung im eigentlichen Sinne\, sondern ein netter Abend mit Büchern und Menschen. Das ist die Idee: Drei bis vier Leserinnen oder Leser stellen Bücher vor\, die sie so interessant finden\, dass andere sie unbedingt auch lesen sollten. Egal ob aktueller Bestseller\, überraschender Dachbodenfund oder Kuriosität. Für jede Buchvorstellung ist etwa eine Viertelstunde Zeit: worum es geht\, was so toll daran ist\, dazu ein kurzer\, zitierender Leseausschnitt. Anschließend dürfen sich alle eingeladen fühlen zum Zusammensitzen\, Reden\, Trinken. Wer etwas vorstellen möchte\, ist herzlich willkommen. Der Eintritt ist frei\, das Café ist ab 18 Uhr geöffnet.  Vorschläge bitte gern an ina@oekospeicher.de.
URL:https://boden.oekospeicher.de/event/ich-lese-was-was-du-nicht-liest-17/
LOCATION:Ökospeicher Wulkow\, Am Gutshof 1\, Lebus\, OT Wulkow\, Brandenburg\, 15326\, Deutschland
CATEGORIES:Literatur,Speichercafé
ATTACH;FMTTYPE=:
ORGANIZER;CN="%C3%96kospeicher e.V.":MAILTO:info@oekospeicher.de
END:VEVENT
BEGIN:VEVENT
DTSTART;TZID=Europe/Berlin:20250523T180000
DTEND;TZID=Europe/Berlin:20250523T193000
DTSTAMP:20260422T143814
CREATED:20250311T082529Z
LAST-MODIFIED:20250311T082529Z
UID:2812-1748023200-1748028600@boden.oekospeicher.de
SUMMARY:Lesung mit Sören Bollmann
DESCRIPTION:Von Frankfurt bis Europa – ein Abend mit den Geschichten von Sören Bollmann: Das thematische Spektrum der seit 2013 erschienenen Bücher des Frankfurter Schriftstellers Sören Bollmann ist breit: Vier Krimis aus der „Halben Stadt“ rund um das deutsch-polnische Kommissaren-Duo Bernd Matuschek und Wojtek Miłosz\, der Schmöker „Der Himmel über Europa“ über das Leben von sieben Mitgliedern des Europaparlaments und die in den letzten beiden Jahren erschienenen Sammlungen von Kurzgeschichten „Die Katzenfrau aus Lissabon“ und „Monolog eines Barkeepers“. Die gemeinsame Klammer aller Bücher ist Europa und die Wahlheimat Frankfurt (Oder). Im Ökospeicher Wulkow liest der Autor Ausschnitte aus den Krimis und dem Europaroman sowie zwei Kurzgeschichten. \nEintritt frei!
URL:https://boden.oekospeicher.de/event/lesung-mit-soeren-bollmann/
LOCATION:Brandenburg
CATEGORIES:Literatur
ATTACH;FMTTYPE=:
ORGANIZER;CN="%C3%96kospeicher e.V.":MAILTO:info@oekospeicher.de
END:VEVENT
END:VCALENDAR