BEGIN:VCALENDAR
VERSION:2.0
PRODID:-//Bodenleben.Bodenlos - ECPv6.15.20//NONSGML v1.0//EN
CALSCALE:GREGORIAN
METHOD:PUBLISH
X-ORIGINAL-URL:https://boden.oekospeicher.de
X-WR-CALDESC:Veranstaltungen für Bodenleben.Bodenlos
REFRESH-INTERVAL;VALUE=DURATION:PT1H
X-Robots-Tag:noindex
X-PUBLISHED-TTL:PT1H
BEGIN:VTIMEZONE
TZID:Europe/Berlin
BEGIN:DAYLIGHT
TZOFFSETFROM:+0100
TZOFFSETTO:+0200
TZNAME:CEST
DTSTART:20250330T010000
END:DAYLIGHT
BEGIN:STANDARD
TZOFFSETFROM:+0200
TZOFFSETTO:+0100
TZNAME:CET
DTSTART:20251026T010000
END:STANDARD
BEGIN:DAYLIGHT
TZOFFSETFROM:+0100
TZOFFSETTO:+0200
TZNAME:CEST
DTSTART:20260329T010000
END:DAYLIGHT
BEGIN:STANDARD
TZOFFSETFROM:+0200
TZOFFSETTO:+0100
TZNAME:CET
DTSTART:20261025T010000
END:STANDARD
BEGIN:DAYLIGHT
TZOFFSETFROM:+0100
TZOFFSETTO:+0200
TZNAME:CEST
DTSTART:20270328T010000
END:DAYLIGHT
BEGIN:STANDARD
TZOFFSETFROM:+0200
TZOFFSETTO:+0100
TZNAME:CET
DTSTART:20271031T010000
END:STANDARD
END:VTIMEZONE
BEGIN:VEVENT
DTSTART;TZID=Europe/Berlin:20260329T110000
DTEND;TZID=Europe/Berlin:20260329T110000
DTSTAMP:20260422T122805
CREATED:20260104T151638Z
LAST-MODIFIED:20260104T151638Z
UID:3068-1774782000-1774782000@boden.oekospeicher.de
SUMMARY:Ostermarkt
DESCRIPTION:Der traditionelle Ostermarkt am und im Speicher mit Leckerem vom Grill\, aus dem Dorfbackofen\, aus der Speicherküche und jeder Menge dorfgebackenem Kuchen. Dazu Pflanzen\, Deko und Bastelstand. Die Familien-Ökofilmtour startet 11.30 Uhr im zweiten Obergeschoss – achtet auf die Kino-Pfeile für den Weg! Danach Miniexkursion mit Thomas Zwiener. Wer klimafreundlich mit dem Rad kommt\, kriegt ein Freigetränk!
URL:https://boden.oekospeicher.de/event/ostermarkt-2/
LOCATION:Ökospeicher Wulkow\, Am Gutshof 1\, Lebus\, OT Wulkow\, Brandenburg\, 15326\, Deutschland
CATEGORIES:Märkte und Feste
ATTACH;FMTTYPE=:
ORGANIZER;CN="%C3%96kospeicher e.V.":MAILTO:info@oekospeicher.de
END:VEVENT
BEGIN:VEVENT
DTSTART;TZID=Europe/Berlin:20260329T113000
DTEND;TZID=Europe/Berlin:20260329T130000
DTSTAMP:20260422T122805
CREATED:20260104T112925Z
LAST-MODIFIED:20260104T112925Z
UID:3065-1774783800-1774789200@boden.oekospeicher.de
SUMMARY:Familien-Ökofilmtour mit Miniexkursion
DESCRIPTION:Parallel zum Ostermarkt am Palmsonntag zeigen wir wieder Naturfilme für Kinder aus dem Ökofilmtour-Programm und begeben uns anschließend auf eine geführte Miniexkursion in die Umgebung des Wulkower Ökospeichers. \n  \nSonntag\, 29.3\, 11.30 Uhr\, Kinderprogramme: \nRisky Routes \nRegie:  Jonas Steiner \nJedes Jahr begeben sich Tausende von Kröten auf die beschwerliche Reise \nzurück zu den Gewässern ihrer Geburt\, um sich fortzupflanzen. Auf ihrem Weg \nmüssen sie zahlreiche Gefahren überwinden – von gefährlichen Straßen bis hin \nzu anderen Hindernissen\, die ihre Reise zu einem Kampf ums Überleben \nmachen. \n  \nZaunkönig – Wo baut er seine Nester? \nRegie: Jens Hamann \nDer Zaunkönig ist einer unserer kleinsten Vögel. Trotzdem singt er sein Lied mit \nunglaublich lauter Stimme. So macht das Zaunkönig-Männchen allen klar: Das \nist mein Revier! Dort baut es mehrere Nester. Das Weibchen hat sich für ein \nNest in einer alten Decke entschieden\, um dort vier Küken großzuziehen. Sie \nwerden mit Insekten gefüttert\, die das Weibchen im Unterholz eines \nNaturgartens findet. \n  \nElise mag Spinnen \nRegie: Cordula Garrido\, Claudia Kock \n  \nDie sechsjährige Elise findet Spinnen faszinierend. Sie versteht gar nicht\, dass \nviele Menschen Angst vor den kleinen Krabblern haben. Am schlimmsten findet \nsie\, wenn die Spinnen wegesaugt und getötet werden. Elise fängt stattdessen \ndie Spinnen mit einem Glas und setzt sie gerne in ihr Terrarium\, bevor sie sie \ndraußen freilässt. Hier kann sie die Spinnen beobachten und sehen\, was für \nunterschiedliche Netze sie spinnen. Als Elise wieder eine Spinne rettet\, ist sie \nglücklich.
URL:https://boden.oekospeicher.de/event/familien-oekofilmtour-mit-miniexkursion/
LOCATION:Ökospeicher Wulkow\, Am Gutshof 1\, Lebus\, OT Wulkow\, Brandenburg\, 15326\, Deutschland
CATEGORIES:Ökofilmtour 26
ATTACH;FMTTYPE=:
END:VEVENT
END:VCALENDAR